BEGIN:VCALENDAR
VERSION:2.0
PRODID:-//SPÖ Klaus-Steyrling-Kniewas - ECPv6.15.20//NONSGML v1.0//EN
CALSCALE:GREGORIAN
METHOD:PUBLISH
X-WR-CALNAME:SPÖ Klaus-Steyrling-Kniewas
X-ORIGINAL-URL:https://klaus.spooe.at
X-WR-CALDESC:Veranstaltungen für SPÖ Klaus-Steyrling-Kniewas
REFRESH-INTERVAL;VALUE=DURATION:PT1H
X-Robots-Tag:noindex
X-PUBLISHED-TTL:PT1H
BEGIN:VTIMEZONE
TZID:Europe/Vienna
BEGIN:DAYLIGHT
TZOFFSETFROM:+0100
TZOFFSETTO:+0200
TZNAME:CEST
DTSTART:20140330T010000
END:DAYLIGHT
BEGIN:STANDARD
TZOFFSETFROM:+0200
TZOFFSETTO:+0100
TZNAME:CET
DTSTART:20141026T010000
END:STANDARD
BEGIN:DAYLIGHT
TZOFFSETFROM:+0100
TZOFFSETTO:+0200
TZNAME:CEST
DTSTART:20150329T010000
END:DAYLIGHT
BEGIN:STANDARD
TZOFFSETFROM:+0200
TZOFFSETTO:+0100
TZNAME:CET
DTSTART:20151025T010000
END:STANDARD
BEGIN:DAYLIGHT
TZOFFSETFROM:+0100
TZOFFSETTO:+0200
TZNAME:CEST
DTSTART:20160327T010000
END:DAYLIGHT
BEGIN:STANDARD
TZOFFSETFROM:+0200
TZOFFSETTO:+0100
TZNAME:CET
DTSTART:20161030T010000
END:STANDARD
BEGIN:DAYLIGHT
TZOFFSETFROM:+0100
TZOFFSETTO:+0200
TZNAME:CEST
DTSTART:20170326T010000
END:DAYLIGHT
BEGIN:STANDARD
TZOFFSETFROM:+0200
TZOFFSETTO:+0100
TZNAME:CET
DTSTART:20171029T010000
END:STANDARD
END:VTIMEZONE
BEGIN:VEVENT
DTSTART;TZID=Europe/Vienna:20160222T180000
DTEND;TZID=Europe/Vienna:20160222T200000
DTSTAMP:20260422T145715
CREATED:20160128T090154Z
LAST-MODIFIED:20160128T090154Z
UID:507-1456164000-1456171200@klaus.spooe.at
SUMMARY:Arbeitskreissitzung der Gesunden Gemeinde
DESCRIPTION:Thema: Maßnahmenplanung
URL:https://klaus.spooe.at/termin/arbeitskreissitzung-der-gesunden-gemeinde/
LOCATION:Gemeindesaal in Steyrling\, Steyrling 252\, Steyrling\, 4571
END:VEVENT
BEGIN:VEVENT
DTSTART;TZID=Europe/Vienna:20150927T080000
DTEND;TZID=Europe/Vienna:20150927T130000
DTSTAMP:20260422T145715
CREATED:20150428T160801Z
LAST-MODIFIED:20150428T162237Z
UID:203-1443340800-1443358800@klaus.spooe.at
SUMMARY:Gemeinderatswahl- Landtagswahl 2015
DESCRIPTION:
URL:https://klaus.spooe.at/termin/landtag-gemeinderat-und-buergermeisterwahl-2015/
END:VEVENT
BEGIN:VEVENT
DTSTART;TZID=Europe/Vienna:20150908T160000
DTEND;TZID=Europe/Vienna:20150908T170000
DTSTAMP:20260422T145715
CREATED:20150906T083928Z
LAST-MODIFIED:20150906T084704Z
UID:452-1441728000-1441731600@klaus.spooe.at
SUMMARY:Spatenstich "Spektakuläre Steyrbrücke schließt Lücke des Steyrtalradwegs"
DESCRIPTION:mit LH Stv. Reinhold Entholzer\, LH Stv. Franz Hiesl
URL:https://klaus.spooe.at/termin/spatenstich-spektakulaere-steyrbruecke-schliesst-luecke-des-steyrtalradwegs/
LOCATION:Oberhochwart\, Oberhochwart (neue Halle von Familie  Lattner Christoph)\, 4564
END:VEVENT
BEGIN:VEVENT
DTSTART;TZID=Europe/Vienna:20150907T180000
DTEND;TZID=Europe/Vienna:20150907T210000
DTSTAMP:20260422T145715
CREATED:20150814T160318Z
LAST-MODIFIED:20150814T160318Z
UID:437-1441648800-1441659600@klaus.spooe.at
SUMMARY:Fraktionssitzung bei Rudolf Mayr
DESCRIPTION:
URL:https://klaus.spooe.at/termin/fraktionssitzung-bei-rudolf-mayr/
END:VEVENT
BEGIN:VEVENT
DTSTART;TZID=Europe/Vienna:20150820T153000
DTEND;TZID=Europe/Vienna:20150820T160000
DTSTAMP:20260422T145715
CREATED:20150814T160216Z
LAST-MODIFIED:20150814T160216Z
UID:436-1440084600-1440086400@klaus.spooe.at
SUMMARY:Mag.a Gertraud Jahn in Steyrling (Dorfladen)
DESCRIPTION:
URL:https://klaus.spooe.at/termin/mag-a-gertraud-jahn-in-steyrling-dorfladen/
END:VEVENT
BEGIN:VEVENT
DTSTART;TZID=Europe/Vienna:20150803T190000
DTEND;TZID=Europe/Vienna:20150803T210000
DTSTAMP:20260422T145715
CREATED:20150428T160449Z
LAST-MODIFIED:20150428T161345Z
UID:202-1438628400-1438635600@klaus.spooe.at
SUMMARY:Fraktionssitzung
DESCRIPTION:
URL:https://klaus.spooe.at/termin/fraktions-sitzung/
END:VEVENT
BEGIN:VEVENT
DTSTART;TZID=Europe/Vienna:20150716T190000
DTEND;TZID=Europe/Vienna:20150716T210000
DTSTAMP:20260422T145715
CREATED:20150428T161800Z
LAST-MODIFIED:20150428T161800Z
UID:206-1437073200-1437080400@klaus.spooe.at
SUMMARY:Gemeinderatssitzung in Klaus
DESCRIPTION:
URL:https://klaus.spooe.at/termin/gemeinderatssitzung-in-klaus-2/
END:VEVENT
BEGIN:VEVENT
DTSTART;TZID=Europe/Vienna:20150715T190000
DTEND;TZID=Europe/Vienna:20150715T210000
DTSTAMP:20260422T145715
CREATED:20150428T160403Z
LAST-MODIFIED:20150428T161726Z
UID:201-1436986800-1436994000@klaus.spooe.at
SUMMARY:Fraktionssitzung in Klaus
DESCRIPTION:
URL:https://klaus.spooe.at/termin/fraktionssitzung-2/
END:VEVENT
BEGIN:VEVENT
DTSTART;TZID=Europe/Vienna:20150608T080000
DTEND;TZID=Europe/Vienna:20150608T170000
DTSTAMP:20260422T145715
CREATED:20150510T173441Z
LAST-MODIFIED:20150510T175233Z
UID:365-1433750400-1433782800@klaus.spooe.at
SUMMARY:Sprechtag des Bürgermeisters
DESCRIPTION:
URL:https://klaus.spooe.at/termin/sprechtag-des-buergermeisters-2/
LOCATION:Gh. Kerschbaumer\, Steyrling
ATTACH;FMTTYPE=image/jpeg:https://klaus.spooe.at/wp-content/uploads/sites/216/2015/05/Sprechtag-Bgm.jpg
END:VEVENT
BEGIN:VEVENT
DTSTART;TZID=Europe/Vienna:20150606T140000
DTEND;TZID=Europe/Vienna:20150606T220000
DTSTAMP:20260422T145715
CREATED:20150428T160144Z
LAST-MODIFIED:20150428T162223Z
UID:198-1433599200-1433628000@klaus.spooe.at
SUMMARY:JG Frühlingsfest im Lokschuppm Klaus
DESCRIPTION:Beachvolleyballturnier ab 14:00 Uhr\nUnterhaltung mit den Rottenmanner Buam ab 18:00 Uhr\nspannender Abschluss beim Ansehen des Champions League Finale
URL:https://klaus.spooe.at/termin/jg-fruehlingsfest/
END:VEVENT
BEGIN:VEVENT
DTSTART;TZID=Europe/Vienna:20150529T170000
DTEND;TZID=Europe/Vienna:20150530T130000
DTSTAMP:20260422T145715
CREATED:20150428T160323Z
LAST-MODIFIED:20150428T162513Z
UID:200-1432918800-1432990800@klaus.spooe.at
SUMMARY:Partei Sitzung
DESCRIPTION:
URL:https://klaus.spooe.at/termin/partei-sitzung/
END:VEVENT
BEGIN:VEVENT
DTSTART;TZID=Europe/Vienna:20150521T190000
DTEND;TZID=Europe/Vienna:20150521T210000
DTSTAMP:20260422T145715
CREATED:20150428T161630Z
LAST-MODIFIED:20150428T161630Z
UID:205-1432234800-1432242000@klaus.spooe.at
SUMMARY:Gemeinderatssitzung in Klaus
DESCRIPTION:
URL:https://klaus.spooe.at/termin/gemeinderatssitzung-in-klaus/
END:VEVENT
BEGIN:VEVENT
DTSTART;TZID=Europe/Vienna:20150520T190000
DTEND;TZID=Europe/Vienna:20150520T210000
DTSTAMP:20260422T145715
CREATED:20150428T160240Z
LAST-MODIFIED:20150428T160240Z
UID:199-1432148400-1432155600@klaus.spooe.at
SUMMARY:Fraktionssitzung
DESCRIPTION:
URL:https://klaus.spooe.at/termin/fraktionssitzung/
END:VEVENT
BEGIN:VEVENT
DTSTART;TZID=Europe/Vienna:20150511T170000
DTEND;TZID=Europe/Vienna:20150511T180000
DTSTAMP:20260422T145715
CREATED:20150510T173213Z
LAST-MODIFIED:20150510T173213Z
UID:363-1431363600-1431367200@klaus.spooe.at
SUMMARY:Sprechtag des Bürgermeisters
DESCRIPTION:
URL:https://klaus.spooe.at/termin/sprechtag-des-buergermeisters/
LOCATION:Gasthaus Pölz „Klausner“\, Klausner
END:VEVENT
BEGIN:VEVENT
DTSTART;TZID=Europe/Vienna:20150509T100000
DTEND;TZID=Europe/Vienna:20150509T120000
DTSTAMP:20260422T145715
CREATED:20150428T160109Z
LAST-MODIFIED:20150502T075241Z
UID:197-1431165600-1431172800@klaus.spooe.at
SUMMARY:Landeshauptmann-Stellvertreter Ing. Reinhold Entholzer bei unseren Pensionisten
DESCRIPTION:
URL:https://klaus.spooe.at/termin/landeshauptmann-stellvertreter-ing-reinhold-entholzer-bei-unseren-pensionisten/
END:VEVENT
BEGIN:VEVENT
DTSTART;TZID=Europe/Vienna:20150507T193000
DTEND;TZID=Europe/Vienna:20150507T213000
DTSTAMP:20260422T145715
CREATED:20150427T202309Z
LAST-MODIFIED:20150428T161515Z
UID:152-1431027000-1431034200@klaus.spooe.at
SUMMARY:SPÖ Ortspartei Vollversammlung
DESCRIPTION:
URL:https://klaus.spooe.at/termin/spoe-ortspartei-vollvetsammlung/
LOCATION:Gh. Kerschbaumer\, Steyrling
END:VEVENT
END:VCALENDAR